BEGIN:VCALENDAR
VERSION:2.0
PRODID:BIOBS Calendar
METHOD:PUBLISH
BEGIN:VEVENT
DTSTART:20210510T215900Z
DTEND:20210510T215900Z
DTSTAMP:20260421T080945Z
SUMMARY:Anmeldeschluss: FUTURE OF WOMEN ENTREPRENEURSHIP
CREATED:20260421T080945Z
LAST-MODIFIED:20260421T080945Z
SEQUENCE:0
STATUS:CONFIRMED
TRANSP:OPAQUE
CLASS:PUBLIC
END:VEVENT
END:VCALENDAR
